{"text_format":"3","workbook":"xlsx","n_sheets":5,"sheets":["Beregning","lister","Ark3","Ark1","Ark2"],"not_rendered":{"defined_names":8},"read":"whole","date_system":"1900"}

{"sheet":"Beregning","index":0,"n_rows":53,"n_cols":11,"rows_kept":53}
["Forudsætninger for beregning af N-behov","Blå = Skal vælges fra rullemenu",null,"Sæson","Afgrødehistorik",{"$f":"lister!A33","v":2023},{"$f":"lister!A34","v":2022},{"$f":"lister!A35","v":2021},{"$f":"lister!A36","v":2020},{"$f":"lister!A37","v":2019},"Sum"]
["Version 20240223","Grøn = Skal indtastes",null,2024,"Afgrøde","Brak, korn o. a.","Brak, korn o. a.","Brak, korn o. a.","Brak, korn o. a.","Brak, korn o. a."]
[null,"Rød = Må ikke ændres",null,"Mark","Roetop/halm nedmuldet = 1, ellers 0",1,1,1,1,1]
["Afgrøde","Vinterhvede (brød)","Enhed","1-0","Tilført N (kg N/ha) rod/stub fra forfrugt",{"$f":"VLOOKUP(F2,lister!$J25:$K45,2,FALSE)","v":0},{"$f":"VLOOKUP(G2,lister!$J25:$K45,2,FALSE)","v":0},{"$f":"VLOOKUP(H2,lister!$J25:$K45,2,FALSE)","v":0},{"$f":"VLOOKUP(I2,lister!$J25:$K45,2,FALSE)","v":0},{"$f":"VLOOKUP(J2,lister!$J25:$K45,2,FALSE)","v":0},{"$f":"SUM(F4:J4)","v":0}]
["Udbyttenorm",{"$f":"VLOOKUP(B4,lister!C4:D26,2,FALSE)","v":88},{"$f":"VLOOKUP(B4,lister!C4:G26,3,FALSE)","v":"hkg/ha"},null,"Tilført N (kg N/ha) halm/top fra forfrugt",{"$f":"IF(F3=1,VLOOKUP(F2,lister!$J25:$L45,3,FALSE),0)","v":0},{"$f":"IF(G3=1,VLOOKUP(G2,lister!$J25:$L45,3,FALSE),0)","v":0},{"$f":"IF(H3=1,VLOOKUP(H2,lister!$J25:$L45,3,FALSE),0)","v":0},{"$f":"IF(I3=1,VLOOKUP(I2,lister!$J25:$L45,3,FALSE),0)","v":0},{"$f":"IF(J3=1,VLOOKUP(J2,lister!$J25:$L45,3,FALSE),0)","v":0},{"$f":"SUM(F5:J5)","v":0}]
["Forventet udbytte",90,{"$f":"+C5","v":"hkg/ha"},null,"Omsætning (%)",30,14,11,9,7]
["Udnyttelses-% af forfrugt/afgrøderester/organisk gødning",{"$f":"VLOOKUP(B4,lister!C4:H26,6,FALSE)","v":55},"%",null,{"$f":"CONCATENATE(\"Frigivet N i \",lister!A32,\" (kg N/ha), rod/stub\")","v":"Frigivet N i 2024 (kg N/ha), rod/stub"},{"$f":"ROUND(F6/100*F4,1)","v":0},{"$f":"ROUND(G6/100*G4,1)","v":0},{"$f":"ROUND(H6/100*H4,1)","v":0},{"$f":"ROUND(I6/100*I4,1)","v":0},{"$f":"ROUND(J6/100*J4,1)","v":0},{"$f":"SUM(F7:J7)","v":0}]
["N-optag i evt. overvintrende afgrøde","Normal, 0 kg N/ha",null,null,{"$f":"CONCATENATE(\"Frigivet N i \",lister!A32,\" (kg N/ha), top/halm\")","v":"Frigivet N i 2024 (kg N/ha), top/halm"},{"$f":"ROUND(F6/100*F5,1)","v":0},{"$f":"ROUND(G6/100*G5,1)","v":0},{"$f":"ROUND(H6/100*H5,1)","v":0},{"$f":"ROUND(I6/100*I5,1)","v":0},{"$f":"ROUND(J6/100*J5,1)","v":0},{"$f":"SUM(F8:J8)","v":0}]
["JB-nr.","JB6, fin sandblandet lerjord",null,null,"Sum frigivet N i år (kg N/ha)",{"$f":"SUM(F7:F8)","v":0},{"$f":"SUM(G7:G8)","v":0},{"$f":"SUM(H7:H8)","v":0},{"$f":"SUM(I7:I8)","v":0},{"$f":"SUM(J7:J8)","v":0},{"$f":"SUM(F9:J9)","v":0}]
["Roddybde",{"$f":"VLOOKUP(B9,lister!J4:K15,2,FALSE)","v":100},"cm"]
["N-min prøvetagningsdybde","0-75","cm",null,"Organisk gødning"]
["N-min resultat fra laboratorie/GPS Agro",35,"kg N/ha",null,"Type",{"$f":"CONCATENATE(lister!A32,\"/\",lister!A33)","v":"2024/2023"},{"$f":"CONCATENATE(lister!A34,\"/\",lister!A33)","v":"2022/2023"},{"$f":"CONCATENATE(lister!A35,\"/\",lister!A34)","v":"2021/2022"},{"$f":"CONCATENATE(lister!A36,\"/\",lister!A35)","v":"2020/2021"},{"$f":"CONCATENATE(lister!A37,\"/\",lister!A36)","v":"2019/2020"},"Sum"]
["N-min, korrigeret for roddybde",{"$f":"ROUND(IF(AND(B10=100,B11=\"0-75\"),B12*1.3,IF(AND(B10=75,B11=\"0-75\"),B12*1,0)),0)","v":46},"kg N/ha",null,"Svinegylle (t/ha)",0,0,0,0,0,{"$f":"SUM(F13:J13)","v":0}]
[null,{"$f":"+IF(VLOOKUP(B9,lister!J4:K15,2,FALSE)=50,\"OBS: Beregning gælder kun for JB2 eller JB>=4)\",\"\")","v":""},null,null,"Svinegylle (kg org. N/t)",1.2,1.2,1.2,1.2,1.2]
["Beregning af N-behov:",{"$nulls":3},"Tilført N (kg org. N/ha)",{"$f":"+F13*F14","v":0},{"$f":"+G13*G14","v":0},{"$f":"+H13*H14","v":0},{"$f":"+I13*I14","v":0},{"$f":"+J13*J14","v":0},{"$f":"SUM(F15:J15)","v":0}]
["Optimal N-forsyning, normudb.",{"$f":"VLOOKUP(B4,lister!C4:G26,4,FALSE)","v":251},"kg N/ha",null,"Omsætning (%)",30,14,11,9,7]
["Korrektion, forventet udbytte",{"$f":"(B6-B5)*VLOOKUP(B4,lister!C4:G26,5,FALSE)","v":{"v":3.4,"d":"3"}},{"$f":"+C16","v":"kg N/ha"},null,{"$f":"CONCATENATE(\"Frigivet N i \",lister!A32,\" (kg N/ha)\")","v":"Frigivet N i 2024 (kg N/ha)"},{"$f":"ROUND(F13*F14*F16/100,1)","v":0},{"$f":"+G13*G14*G16/100","v":0},{"$f":"+H13*H14*H16/100","v":0},{"$f":"+I13*I14*I16/100","v":0},{"$f":"+J13*J14*J16/100","v":0},{"$f":"SUM(F17:J17)","v":0}]
["N-min, korrigeret for roddybde",{"$f":"-B13","v":-46},{"$f":"+C17","v":"kg N/ha"},null,"Kvæggylle (t/ha)",0,0,0,0,0,{"$f":"SUM(F18:J18)","v":0}]
["N-optag i overvintrende afgrøde",{"$f":"-VLOOKUP(B8,lister!J18:K21,2,FALSE)","v":0},{"$f":"+C18","v":"kg N/ha"},null,"Kvæggylle (kg org. N/t)",1.8,1.8,1.8,1.8,1.8]
["N-udnyttelse fra rod/stub fra forfrugt",{"$f":"-ROUND(SUM(F7:J7)*B7/100,1)","v":0},{"$f":"+C19","v":"kg N/ha"},null,"Tilført N (kg org. N/ha)",{"$f":"+F18*F19","v":0},{"$f":"+G18*G19","v":0},{"$f":"+H18*H19","v":0},{"$f":"+I18*I19","v":0},{"$f":"+J18*J19","v":0},{"$f":"SUM(F20:J20)","v":0}]
["N-udnyttelse fra top/halm fra forfrugt",{"$f":"-ROUND(SUM(F8:J8)*B7/100,1)","v":0},{"$f":"+C20","v":"kg N/ha"},null,"Omsætning (%)",30,14,11,9,7]
["N-udnyttelse fra svinegylle",{"$f":"-ROUND(SUM(F17:J17)*B7/100,1)","v":0},"kg N/ha",null,{"$f":"+E17","v":"Frigivet N i 2024 (kg N/ha)"},{"$f":"+F18*F19*F21/100","v":0},{"$f":"+G18*G19*G21/100","v":0},{"$f":"+H18*H19*H21/100","v":0},{"$f":"+I18*I19*I21/100","v":0},{"$f":"+J18*J19*J21/100","v":0},{"$f":"SUM(F22:J22)","v":0}]
["N-udnyttelse fra kvæggylle",{"$f":"-ROUND(SUM(F22:J22)*B7/100,1)","v":0},"kg N/ha",null,"Dybstrøelse, svin (t/ha)",0,0,0,0,0,{"$f":"SUM(F23:J23)","v":0}]
["N-udnyttelse fra dybstrøelse, svin",{"$f":"-ROUND(SUM(F27:J27)*B7/100,1)","v":0},"kg N/ha",null,"Dybstrøelse, svin (kg org. N/t)",6.8,6.8,6.8,6.8,6.8]
["N-udnyttelse fra dybstrøelse, kvæg",{"$f":"-ROUND(SUM(F32:J32)*B7/100,1)","v":0},"kg N/ha",null,"Tilført N (kg org. N/ha)",{"$f":"+F23*F24","v":0},{"$f":"+G23*G24","v":0},{"$f":"+H23*H24","v":0},{"$f":"+I23*I24","v":0},{"$f":"+J23*J24","v":0},{"$f":"SUM(F25:J25)","v":0}]
["N-udnyttelse fra slam",{"$f":"-ROUND(SUM(F37:J37)*B7/100,1)","v":0},"kg N/ha",null,"Omsætning (%)",30,14,11,9,7]
["N-udnyttelse fra NovoGro",{"$f":"-ROUND(SUM(F42:J42)*B7/100,1)","v":0},"kg N/ha",null,{"$f":"+E17","v":"Frigivet N i 2024 (kg N/ha)"},{"$f":"+F23*F24*F26/100","v":0},{"$f":"+G23*G24*G26/100","v":0},{"$f":"+H23*H24*H26/100","v":0},{"$f":"+I23*I24*I26/100","v":0},{"$f":"+J23*J24*J26/100","v":0},{"$f":"SUM(F27:J27)","v":0}]
["N-udnyttelse fra Gødning1",{"$f":"-ROUND(SUM(F47:J47)*B7/100,1)","v":0},"kg N/ha",null,"Dybstrøelse, kvæg (t/ha)",0,0,0,0,0,{"$f":"SUM(F28:J28)","v":0}]
["N-udnyttelse fra Gødning2",{"$f":"-ROUND(SUM(F52:J52)*B7/100,1)","v":0},"kg N/ha",null,"Dybstrøelse, kvæg (kg org. N/t)",6.3,6.3,6.3,6.3,6.3]
["N-behov",{"$f":"SUM(B16:B29)","v":{"v":208.4,"d":"208"}},"kg N/ha",null,"Tilført N (kg org. N/ha)",{"$f":"+F28*F29","v":0},{"$f":"+G28*G29","v":0},{"$f":"+H28*H29","v":0},{"$f":"+I28*I29","v":0},{"$f":"+J28*J29","v":0},{"$f":"SUM(F30:J30)","v":0}]
[{"$nulls":4},"Omsætning (%)",30,14,11,9,7]
["OBS: Beregningsmodul gælder kun for:",{"$nulls":3},{"$f":"+E17","v":"Frigivet N i 2024 (kg N/ha)"},{"$f":"+F28*F29*F31/100","v":0},{"$f":"+G28*G29*G31/100","v":0},{"$f":"+H28*H29*H31/100","v":0},{"$f":"+I28*I29*I31/100","v":0},{"$f":"+J28*J29*J31/100","v":0},{"$f":"SUM(F32:J32)","v":0}]
["- prøvetagningsdybde 0-75 cm udtaget før 1. april",{"$nulls":3},"Slam (t/ha)",0,0,0,0,0,{"$f":"SUM(F33:J33)","v":0}]
["- roddybde 75 cm eller 100 cm (dvs. JB 2 eller JB >= 4)",{"$nulls":3},"Slam (kg org. N/t)",5,5,5,5,5]
[{"$nulls":4},"Tilført N (kg org. N/ha)",{"$f":"+F33*F34","v":0},{"$f":"+G33*G34","v":0},{"$f":"+H33*H34","v":0},{"$f":"+I33*I34","v":0},{"$f":"+J33*J34","v":0},{"$f":"SUM(F35:J35)","v":0}]
[{"$nulls":4},"Omsætning (%)",30,14,11,9,7]
[{"$nulls":4},{"$f":"+E17","v":"Frigivet N i 2024 (kg N/ha)"},{"$f":"+F33*F34*F36/100","v":0},{"$f":"+G33*G34*G36/100","v":0},{"$f":"+H33*H34*H36/100","v":0},{"$f":"+I33*I34*I36/100","v":0},{"$f":"+J33*J34*J36/100","v":0},{"$f":"SUM(F37:J37)","v":0}]
[{"$nulls":4},"NovoGro (t/ha)",0,0,0,0,0,{"$f":"SUM(F38:J38)","v":0}]
[{"$nulls":4},"NovoGro (kg org. N/t)",8.2,8.2,8.2,8.2,8.2]
[{"$nulls":4},"Tilført N (kg org. N/ha)",{"$f":"+F38*F39","v":0},{"$f":"+G38*G39","v":0},{"$f":"+H38*H39","v":0},{"$f":"+I38*I39","v":0},{"$f":"+J38*J39","v":0},{"$f":"SUM(F40:J40)","v":0}]
[{"$nulls":4},"Omsætning (%)",30,14,11,9,7]
[{"$nulls":4},{"$f":"+E17","v":"Frigivet N i 2024 (kg N/ha)"},{"$f":"+F38*F39*F41/100","v":0},{"$f":"+G38*G39*G41/100","v":0},{"$f":"+H38*H39*H41/100","v":0},{"$f":"+I38*I39*I41/100","v":0},{"$f":"+J38*J39*J41/100","v":0},{"$f":"SUM(F42:J42)","v":0}]
[{"$nulls":4},"Gødning1 (t/ha)",0,0,0,0,0,{"$f":"SUM(F43:J43)","v":0}]
[{"$nulls":4},"Gødning1 (kg org. N/t)",0,0,0,0,0]
[{"$nulls":4},"Tilført N (kg org. N/ha)",{"$f":"+F43*F44","v":0},{"$f":"+G43*G44","v":0},{"$f":"+H43*H44","v":0},{"$f":"+I43*I44","v":0},{"$f":"+J43*J44","v":0},{"$f":"SUM(F45:J45)","v":0}]
[{"$nulls":4},"Omsætning (%)",30,14,11,9,7]
[{"$nulls":4},{"$f":"+E17","v":"Frigivet N i 2024 (kg N/ha)"},{"$f":"+F43*F44*F46/100","v":0},{"$f":"+G43*G44*G46/100","v":0},{"$f":"+H43*H44*H46/100","v":0},{"$f":"+I43*I44*I46/100","v":0},{"$f":"+J43*J44*J46/100","v":0},{"$f":"SUM(F47:J47)","v":0}]
[{"$nulls":4},"Gødning2 (t/ha)",0,0,0,0,0,{"$f":"SUM(F48:J48)","v":0}]
[{"$nulls":4},"Gødning2 (kg org. N/t)",0,0,0,0,0]
[{"$nulls":4},"Tilført N (kg org. N/ha)",{"$f":"+F48*F49","v":0},{"$f":"+G48*G49","v":0},{"$f":"+H48*H49","v":0},{"$f":"+I48*I49","v":0},{"$f":"+J48*J49","v":0},{"$f":"SUM(F50:J50)","v":0}]
[{"$nulls":4},"Omsætning (%)",30,14,11,9,7]
[{"$nulls":4},{"$f":"+E17","v":"Frigivet N i 2024 (kg N/ha)"},{"$f":"+F48*F49*F51/100","v":0},{"$f":"+G48*G49*G51/100","v":0},{"$f":"+H48*H49*H51/100","v":0},{"$f":"+I48*I49*I51/100","v":0},{"$f":"+J48*J49*J51/100","v":0},{"$f":"SUM(F52:J52)","v":0}]
[{"$nulls":4},"Sum frigivet N i år (kg N/ha)",{"$f":"F17+F22+F27+F32+F37+F42+F47+F52","v":0},{"$f":"G17+G22+G27+G32+G37+G42+G47+G52","v":0},{"$f":"H17+H22+H27+H32+H37+H42+H47+H52","v":0},{"$f":"I17+I22+I27+I32+I37+I42+I47+I52","v":0},{"$f":"J17+J22+J27+J32+J37+J42+J47+J52","v":0},{"$f":"SUM(F53:J53)","v":0}]

{"sheet":"lister","index":1,"n_rows":76,"n_cols":16,"rows_kept":76}
[{"$nulls":3},"Disse forudsætninger kan ændres efter behov",null,null,"Der kan indtastes egne tal"]
["Agrøde og N-norm",{"$nulls":8},"Roddybde"]
["Sort1","Sort2","Afgrøde","Forventet udb.","Udb. enhed","N-norm, kg N/ha","Udb. korrektion, kg N/udb. enh","Udn_pct_forfrugt_afgrøderest",null,"JB","Roddybde, cm"]
[17,1,"Vårbyg (malt og foder)",53,"hkg/ha",147,1.5,45,null,"JB1, grovsand",50]
[18,2,"Vårhvede (foder)",59,"hkg/ha",165,1.3,50,null,"JB2, finsand",75]
[19,3,"Vårraps",22,"hkg/ha",156,1.5,50,null,"JB3, lerblandet grovsand",50]
[5,4,"Havre",52,"hkg/ha",135,1.5,50,null,"JB4, lerblandet finsand",75]
[16,5,"Vinterbyg",60,"hkg/ha",186,1.2,55,null,"JB5, groft sandblandet lerjord",100]
[12,6,"Vinterrug",65,"hkg/ha",164,1.2,50,null,"JB6, fin sandblandet lerjord",100]
[13,7,"Vinterhvede (foder)",70,"hkg/ha",186,1.5,55,null,"JB7, lerjord",100]
[14,8,"Vinterhvede (eksport)",88,"hkg/ha",235,1.7,55,null,"JB8, svær lerjord",100]
[15,9,"Vinterhvede (brød)",88,"hkg/ha",251,1.7,55,null,"JB9, meget svær lerjord",100]
[3,10,"Fabriksroer (rod)",655,"hkg/ha",155,0.1,75,null,"JB?, 50 cm roddybde",50]
[4,11,"Fodersukkerroer",12600,"FE/ha",240,0.01,75,null,"JB?, 75 cm roddybde",75]
[2,12,"Fabrikskartofler, vandet JB 1-4",526,"hkg/ha",232,0.2,60,null,"JB?, 100 cm roddybde",100]
[6,13,"Læggekartofler, vandet, JB 1-4",346,"hkg/ha",156,0.2,60]
[10,14,"Spisekartofler, vandet, JB 1-4",407,"hkg/ha",200,0.2,60,null,"N-optag i overvintrende afgrøde"]
[11,15,"Tidlige spisekartofler, vandet, JB 1-4",150,"hkg/ha",140,0.2,50,null,"Ikke overvintrende afgrøde",0]
[1,16,"Byg/ærter helsæd",6800,"FE/ha",55,0,50,null,"Normal, 0 kg N/ha",0]
[7,17,"Oliehør",15,"hkg/ha",116,0,50,null,"Under normal, -10 kg N/ha",-10]
[8,18,"Silomajs",10200,"FE/ha",183,0,60,null,"Over normal, 20 kg N/ha",20]
[9,19,"Spindhør",92,"hkg/ha",78,0,50]
[20,20,"Vinterraps",44,"hkg/ha",210,1.5,55,null,null,"Forfrugtsvirkning af rod og stub","Forfrugtsvirkning af halm/top"]
[21,21,"Vinterhybridrug",88,"hkg/ha",166,1.2,55,null,null,"kg N/ha","kg N/ha"]
[22,22,"Vårhvede (brød)",48,"hkg/ha",194,1.7,50,null,"Brak, korn o. a.",0,0]
[23,23,"Ny afgrøde4",0,"hkg/ha",0,0,0,null,"Brak, flerårige bælgplanter",75,25]
[{"$nulls":9},"Frøgræs 1. års",20,35]
[{"$nulls":9},"Frøgræs 2.+3. års",40,35]
[{"$nulls":9},"Græs, ren",90,0]
[{"$nulls":9},"Græs, vedv.",100]
["Sæson",{"$nulls":8},"Kartofler, sildige",35]
[{"$f":"+Beregning!D2","v":2024},{"$nulls":8},"Kartofler, tidlige",40]
[{"$f":"+A32-1","v":2023},{"$nulls":8},"Kløvergræs, flerårig",160,60]
[{"$f":"+A33-1","v":2022},{"$nulls":8},"Raps, vår-",75,30]
[2021,{"$nulls":8},"Raps, vinter-",100,50]
[2020,{"$nulls":8},"Lucerne",160]
[2019,{"$nulls":8},"Ærter, mark",70]
[2018,{"$nulls":8},"Sukkerroer",55,60]
[{"$nulls":9},"Foderroer",55,60]
[{"$nulls":9},"Efterafgr/korsbl/sen sån.",20,0]
[{"$nulls":9},"Efterafgr/korsbl/tidl. sån.",75,0]
[{"$nulls":9},"Efterafgrøde, græs",40,0]
[{"$nulls":9},"Majs",30]
[{"$nulls":9},"Forfrugt1",0]
[{"$nulls":9},"Forfrugt2",0]
[]
[{"$nulls":9},"Forfrugtsvirkning af halm/top/efterafgrøde","kg N/ha"]
[{"$nulls":9},"Ingen eller kun halm fra korn",0]
[{"$nulls":9},"Roetop, foder",105]
[{"$nulls":9},"Roetop, fabrik",60]
[{"$nulls":9},"Efterafgrøde, gul sennep etabl. medio aug.",75]
[{"$nulls":9},"Efterafgrøde, gul sennep etabl. ca. 1. sept.",20]
[{"$nulls":9},"Efterafgrøde, græs",40]
[{"$nulls":9},"Græs, ren",40]
[{"$nulls":9},"Græs, vedv.",50]
[{"$nulls":9},"Kløvergræs",60]
[{"$nulls":9},"Frøgræs (halm nedmuldet)",35]
[{"$nulls":9},"Afgrøderest1",0]
[]
[{"$nulls":9},"N-udnyttelse i forfrugt/afgrøderester","%"]
[{"$nulls":9},"Korn og raps, 45-55%",50]
[{"$nulls":9},"Kartofler, majs, 55-65%",60]
[{"$nulls":9},"Roer, 75%",75]
[{"$nulls":9},"Andet, XX%",0]
[]
[{"$nulls":9},"Forforfrugt","kg N/ha"]
[{"$nulls":9},"Ikke medtaget i beregning",0]
[{"$nulls":9},"Græs, 2. årsvirkning",0]
[{"$nulls":9},"Græs, 3. årsvirkning",0]
[{"$nulls":9},"Forforfrugt1",0]
[{"$nulls":9},"Forforfrugt2",0]
[{"$nulls":13},"roddybde"]
[{"$nulls":9},"Prøvedybde","Faktor100","Faktor75",65,75,80,100]
[{"$nulls":9},"0-65 cm",{"v":1.4586206896551726,"d":"1.46"},{"v":1.1310344827586207,"d":"1.13"},9.28,10.495999999999999,null,13.536]
[{"$nulls":9},"0-75 cm",{"$nulls":3},10.8]
[{"$nulls":9},"0-80 cm",{"v":1.223529411764706,"d":"1.22"},{"v":0.934256055363322,"d":"0.93"},null,10.8,11.559999999999999,14.143999999999998]

{"sheet":"Ark3","index":2,"n_rows":0,"n_cols":0,"rows_kept":0}

{"sheet":"Ark1","index":3,"n_rows":0,"n_cols":0,"rows_kept":0}

{"sheet":"Ark2","index":4,"n_rows":0,"n_cols":0,"rows_kept":0}